BEGIN:VCALENDAR
VERSION:2.0
PRODID:-//Date iCal v3.8//NONSGML kigkonsult.se iCalcreator 2.20.2//
METHOD:PUBLISH
BEGIN:VEVENT
UID:calendar.275229.field_date.0@en.unesco.org
CREATED:20170707T171134Z
DESCRIPTION:On the occasion of International Day for Universal Access to In
 formation (IDUAI), UNESCO supports the building inclusive and open knowle
 dge societies by celebrating the IDUAI 2017 under the theme “Overcoming Di
 vides and Achieving the SDGs”. This high-level celebration event will take
  place in Port Louis, Mauritius, on the 28th September and followed by t
 wo days of workshops and technical sessions.The main event on 28th Septemb
 er in InterContinental Hotel, will be focussed on Universal Access to Inf
 ormation and Knowledge, International Cooperation on InfoEthics Achieving
  SDG 16: Peace, Justice and Good Institutions, and International Coopera
 tion on Education and Digital Inclusion to “Leave no one behind”. \n\n\n5 
 workshops will be organized around the following themes: InfoEthics, Foss
  policy, Open Access, OER Congress and YouthMobile.
DTSTART:20170928T093000Z
DTEND:20170930T170000Z
LAST-MODIFIED:20170711T083002Z
LOCATION:InterContinental Hotel (28th Sept. Main Event), the Rajiv Gandhi 
 Science Center (29th and 30th September)\nPort LouisMauritius
SUMMARY:Overcoming Divides: Achieving the SDGs in Africa
URL;TYPE=URI:http://en.unesco.org/events/overcoming-divides-achieving-sdgs-
 africa
END:VEVENT
END:VCALENDAR
