BEGIN:VCALENDAR
VERSION:2.0
PRODID:-//Date iCal v3.8//NONSGML kigkonsult.se iCalcreator 2.20.2//
METHOD:PUBLISH
BEGIN:VEVENT
UID:calendar.273356.field_date.0@en.unesco.org
CREATED:20170516T093725Z
DESCRIPTION:In the framework of the Second International Day for Universal 
 Access to Information (28 September), UNESCO Ramallah office is organazin
 g an event which the aim to engage Palestinian Journalists to Promote Righ
 t to Access Information and accountability in Palestine.\n\n\nThis celebra
 tion will bring together the civil society, legislators and decision make
 rs, media, etc.
DTSTART:20170928T100000Z
DTEND:20170928T160000Z
LAST-MODIFIED:20170619T080120Z
LOCATION:Ramallah\nRamallahPalestine
SUMMARY:IPDC Talks in Palestine
URL;TYPE=URI:http://en.unesco.org/events/ipdc-talks-palestine
END:VEVENT
END:VCALENDAR
