BEGIN:VCALENDAR
VERSION:2.0
PRODID:-//Date iCal v3.8//NONSGML kigkonsult.se iCalcreator 2.20.2//
METHOD:PUBLISH
BEGIN:VEVENT
UID:calendar.269029.field_date.0@en.unesco.org
CREATED:20161220T103457Z
DESCRIPTION:International Youth Day will be taking place on 12 August 2017\
 , bringing youth issues to the attention of the international community an
 d celebrating the potential of youth as partners in today’s global society
 .\n\n\n12 August was first designated International Youth Day by the UN Ge
 neral Assembly in 1999, and serves as an annual celebration of the role o
 f young women and men as essential partners in change, and an opportunity
  to raise awareness of challenges and problems facing the world’s youth. 
 \n\n\nThematic discussions and information campaigns will take place on 12
  August 2017 across the world, to engage both Member States and the gener
 al public to understand the needs of young people, to implement policies 
 to help them overcome the challenges they face, and to encourage young pe
 ople into the decision-making process. These objectives of the Internation
 al Youth Day 2017 will also be addressed during the 10th UNESCO Youth Foru
 m, taking place in the autumn of 2017.
DTSTART:20170812T080000Z
DTEND:20170812T220000Z
LAST-MODIFIED:20170501T153355Z
SUMMARY:International Youth Day
URL;TYPE=URI:http://en.unesco.org/events/international-youth-day
END:VEVENT
END:VCALENDAR
