BEGIN:VCALENDAR
VERSION:2.0
PRODID:-//Date iCal v3.8//NONSGML kigkonsult.se iCalcreator 2.20.2//
METHOD:PUBLISH
BEGIN:VEVENT
UID:calendar.268890.field_date.0@en.unesco.org
CREATED:20170203T163304Z
DESCRIPTION:The yearly Global MIL Week, initiated in 2012, is led by UNES
 CO in cooperation with GAPMIL, UNAOC and the Media and Information Litera
 cy and Intercultural Dialogue (MILID) University Network. It unites divers
 e actors committed to promoting media and information literacy (MIL) as a 
 way to foster social inclusion and intercultural dialogue.The sixth annual
  global celebration of Media and Information Literacy (MIL) Week is being 
 prepared. The Week will take place from 25 October till 1 November 2017. G
 lobal MIL Week 2017 highlights will include the Seventh Media and Informat
 ion Literacy and Intercultural Dialogue (MILID) Conference, planned to be
  held in Kingston, Jamaica.
DTSTART:20171025T090000Z
DTEND:20171101T180000Z
LAST-MODIFIED:20170705T100315Z
SUMMARY:Global Media and Information Literacy Week 2017
URL;TYPE=URI:http://en.unesco.org/events/global-media-and-information-liter
 acy-week-2017
END:VEVENT
END:VCALENDAR
