BEGIN:VCALENDAR
VERSION:2.0
PRODID:-//Date iCal v3.8//NONSGML kigkonsult.se iCalcreator 2.20.2//
METHOD:PUBLISH
BEGIN:VEVENT
UID:calendar.251775.field_date.0@en.unesco.org
CREATED:20151020T172714Z
DESCRIPTION:The UNESCO YouthMobile Initiative organizes a series of interac
 tive workshops within the 9th UNESCO Youth Forum at its Paris’ Headquarter
 s. The seminar will highlight the transformative power of youth initiative
 s conceiving and building mobile apps for sustainable development includin
 g smart cities, global citizenship, and youth employment.\n	The Forum wil
 l also give the opportunities to meeting with some among the most popular 
 technical solutions in this area.\n	• Mon. 26th Oct 13:30 - 14:30 “15 Minut
 es of Fame” by Oulu Team from Finland @ Salle des Pas Perdus\n	• Tues. 27th
  Oct 10:30 - 12:00 Google Cardboard Demo by Jennifer Holland, Google @ Op
 en UNESCO (between the UNESCO Gift Shop and Societe Generale Bank)\n	• Tues
 . 27th Oct 13:30 - 14:30 “15 Minutes of Fame” by Ms Marvellous Olakunori a
 nd Redeat Hailu @ Salle des Pas Perdus\n	• Wed. 28th Oct 9:00 – 1:00: Semin
 ar and Presentation @ Open UNESCO. In this session, a number of prestigio
 us specialists will give presentations on the topics of mobile apps develo
 pment, mobile technology and ICT skills:\n	1. Ms Felicia Khoja, MIT\n	2. M
 s. Siiri Huotari, Ms. Vilma Vakkala, Mr. Alex Myllymaki, Mr. Henri Vais
 anen, Oulu Team\n	3. Ms. Neza Guillaine, Her2Voice\n	4. Mr. Ben Moskowitz\
 , Mozilla WebMaker\n	5. Mr. Paul Guermonprez, Intel\n	6. Ms Grace Ihejiamai
 zu, Technovation
DTSTART:20151026T080000Z
DTEND:20151028T180000Z
LAST-MODIFIED:20160805T091432Z
SUMMARY:YouthMobile Initiative Programme at the 9th Youth Forum
URL;TYPE=URI:http://en.unesco.org/events/youthmobile-initiative-programme-9
 th-youth-forum
END:VEVENT
END:VCALENDAR
